BEGIN:VCALENDAR
VERSION:2.0
PRODID:-//Weltladen Alte Kirche - ECPv5.8.2//NONSGML v1.0//EN
CALSCALE:GREGORIAN
METHOD:PUBLISH
X-WR-CALNAME:Weltladen Alte Kirche
X-ORIGINAL-URL:https://weltladen-alte-kirche.de
X-WR-CALDESC:Veranstaltungen für Weltladen Alte Kirche
BEGIN:VTIMEZONE
TZID:UTC
BEGIN:STANDARD
TZOFFSETFROM:+0000
TZOFFSETTO:+0000
TZNAME:UTC
DTSTART:20180101T000000
END:STANDARD
END:VTIMEZONE
BEGIN:VEVENT
DTSTART;TZID=UTC:20180901T200000
DTEND;TZID=UTC:20180901T200000
DTSTAMP:20260420T180600
CREATED:20171027T114644Z
LAST-MODIFIED:20171028T084821Z
UID:848-1535832000-1535832000@weltladen-alte-kirche.de
SUMMARY:Ozzy Ostermann: privat und ohne Perücke
DESCRIPTION:Seit über 20 Jahren kennt man Georg Göbel-Jakobi nun schon als festes Ensemblemitglied bei Herbert Knebels Affentheater. Die Perücke mit dem Seitenscheitel ist dort sein Markenzeichen.\nJahrgang ’62\, geboren und aufgewachsen in Leer/Ostfriesland\, wohnt er seit 1984 im Ruhrgebiet\, oder genauer in Duisburg-Neudorf\, „da wo der Bär steppt\, also nich weit vom Duisburger Zoo“ (Zitat Knebel).\nWer mehr wissen und hören will über das musikalische Schaffen der Person hinter der Bühnenfigur „Ozzy“\, hat nun dazu die Gelegenheit. Die Perücke bleibt allerdings im Koffer…\nAuf dem Programm stehen bei „Privat und ohne Perücke…“ neben Stücken seiner Gitarren-CD „Black Cow From Hell“ eine ganze Reihe von Lieblingsstücken des Wahl-Duisburgers.\nOb rein instrumental oder mit Gesang\, es wird ein weiterer Bogen geschlagen von Blues\, Folk\, Picking bis zum Jazz. Zum Einsatz kommen akustische und elektrische Gitarren und nicht zuletzt die sogenannten „Flachgitarren“ (Lapsteel).\nEintritt 16/12€/Abendkasse 20/15E
URL:https://weltladen-alte-kirche.de/event/ozzy-ostermann-privat-und-ohne-peruecke/
LOCATION:Alte Kirche Altenessen\, Altenessener Str. 423\, Essen\, 45329\, Deutschland
CATEGORIES:Konzert,mit Catering
END:VEVENT
END:VCALENDAR