BEGIN:VCALENDAR
VERSION:2.0
PRODID:-//Weltladen Alte Kirche - ECPv5.8.2//NONSGML v1.0//EN
CALSCALE:GREGORIAN
METHOD:PUBLISH
X-WR-CALNAME:Weltladen Alte Kirche
X-ORIGINAL-URL:https://weltladen-alte-kirche.de
X-WR-CALDESC:Veranstaltungen für Weltladen Alte Kirche
BEGIN:VTIMEZONE
TZID:UTC
BEGIN:STANDARD
TZOFFSETFROM:+0000
TZOFFSETTO:+0000
TZNAME:UTC
DTSTART:20180101T000000
END:STANDARD
END:VTIMEZONE
BEGIN:VEVENT
DTSTART;TZID=UTC:20180610T170000
DTEND;TZID=UTC:20180610T170000
DTSTAMP:20260420T195248
CREATED:20180422T075316Z
LAST-MODIFIED:20180422T075453Z
UID:1173-1528650000-1528650000@weltladen-alte-kirche.de
SUMMARY:„Wegener singt …“
DESCRIPTION:Burkhard Wegener \nAlltägliches in Worte zu fassen\, fällt nicht immer leicht. Jemandem\, der dieses Kunststück vollbringt\, hört man gerne zu. Burkhard Wegener ist so jemand\, der mit seinen Liedern und Texten die Realität nüchtern und sachlich\, aber auch lyrisch und fantasievoll durchleuchtet\, womit er eine sehr persönliche Atmosphäre schafft. Nicht ohne Grund ist Wegener seit Jahren als Textdichter außerordentliches GEMA-Mitglied. Große Aufmerksamkeit erhielt Wegener auch durch seine modernen Goethe-Vertonungen („Selige Sehnsucht“) und seine stimmungsvollen Theodor-Storm-Lieder („Es ist ein Flüstern“). \nAußerdem besitzt Wegener eine Stimme\, der man gerne zuhört. Hinzu kommt sein versiertes\, aber immer dezent vorgetragenes Gitarrenspiel. Der Titelsong aus seiner CD „Navigator“ handelt vom Wunsch\, so ein Gerät nicht nur für geographische Ziele\, sondern für alle Lebensbereiche zu besitzen. Auch wenn die meisten Lieder einen ernsten Hintergrund haben\, so werden sie doch auch mit einem gewissen Augenzwinkern vorgetragen. Unerwartet garniert Wegener sein Programm sogar mit dem einen oder anderen Witzchen. Ein Musikabend zum Genießen und zum Entspannen. \nEintritt: 10 €/ ermäßigt 7 €\nVorverkauf: Weltladen Alte Kirche\, zu den Öffnungszeiten
URL:https://weltladen-alte-kirche.de/event/wegener-singt/
LOCATION:Alte Kirche Altenessen\, Altenessener Str. 423\, Essen\, 45329\, Deutschland
CATEGORIES:Konzert
END:VEVENT
END:VCALENDAR